{ "currentVersion": 11.3, "cimVersion": "3.3.0", "serviceDescription": "
A cached basemap of common UNC map features. <\/span><\/p><\/div><\/div>",
"mapName": "Layers",
"description": " A cached basemap of common UNC map features. <\/SPAN><\/P><\/DIV><\/DIV>",
"copyrightText": "Facilities Technology Group",
"supportsDynamicLayers": false,
"layers": [
{
"id": 0,
"name": "Road Name",
"parentLayerId": -1,
"defaultVisibility": true,
"subLayerIds": [
1
],
"minScale": 9600,
"maxScale": 0,
"type": "Annotation Layer",
"geometryType": "esriGeometryPolygon",
"supportsDynamicLegends": false
},
{
"id": 1,
"name": "ROADTEXT",
"parentLayerId": 0,
"defaultVisibility": true,
"subLayerIds": null,
"minScale": 0,
"maxScale": 0,
"supportsDynamicLegends": false
},
{
"id": 2,
"name": "Recreation Name",
"parentLayerId": -1,
"defaultVisibility": true,
"subLayerIds": [
3
],
"minScale": 3000,
"maxScale": 0,
"type": "Annotation Layer",
"geometryType": "esriGeometryPolygon",
"supportsDynamicLegends": false
},
{
"id": 3,
"name": "FieldsText",
"parentLayerId": 2,
"defaultVisibility": true,
"subLayerIds": null,
"minScale": 0,
"maxScale": 0,
"supportsDynamicLegends": false
},
{
"id": 4,
"name": "Building Name",
"parentLayerId": -1,
"defaultVisibility": true,
"subLayerIds": [
5
],
"minScale": 3600,
"maxScale": 0,
"type": "Annotation Layer",
"geometryType": "esriGeometryPolygon",
"supportsDynamicLegends": false
},
{
"id": 5,
"name": "BLDGTEXT",
"parentLayerId": 4,
"defaultVisibility": true,
"subLayerIds": null,
"minScale": 0,
"maxScale": 0,
"supportsDynamicLegends": false
},
{
"id": 6,
"name": "Recreation",
"parentLayerId": -1,
"defaultVisibility": true,
"subLayerIds": null,
"minScale": 20000,
"maxScale": 0,
"type": "Feature Layer",
"geometryType": "esriGeometryPolygon",
"supportsDynamicLegends": true
},
{
"id": 7,
"name": "Buildings",
"parentLayerId": -1,
"defaultVisibility": true,
"subLayerIds": null,
"minScale": 750000,
"maxScale": 0,
"type": "Feature Layer",
"geometryType": "esriGeometryPolygon",
"supportsDynamicLegends": true
},
{
"id": 8,
"name": "BuildingShadow",
"parentLayerId": -1,
"defaultVisibility": true,
"subLayerIds": null,
"minScale": 750000,
"maxScale": 0,
"type": "Feature Layer",
"geometryType": "esriGeometryPolygon",
"supportsDynamicLegends": false
},
{
"id": 9,
"name": "Walkway",
"parentLayerId": -1,
"defaultVisibility": true,
"subLayerIds": null,
"minScale": 0,
"maxScale": 0,
"type": "Feature Layer",
"geometryType": "esriGeometryPolygon",
"supportsDynamicLegends": true
},
{
"id": 10,
"name": "Edge Of Pavement",
"parentLayerId": -1,
"defaultVisibility": true,
"subLayerIds": null,
"minScale": 50000,
"maxScale": 0,
"type": "Feature Layer",
"geometryType": "esriGeometryPolygon",
"supportsDynamicLegends": true
},
{
"id": 11,
"name": "Sidewalks",
"parentLayerId": -1,
"defaultVisibility": true,
"subLayerIds": null,
"minScale": 20000,
"maxScale": 0,
"type": "Feature Layer",
"geometryType": "esriGeometryPolygon",
"supportsDynamicLegends": true
},
{
"id": 12,
"name": "Parking_Lots",
"parentLayerId": -1,
"defaultVisibility": true,
"subLayerIds": null,
"minScale": 20000,
"maxScale": 0,
"type": "Feature Layer",
"geometryType": "esriGeometryPolygon",
"supportsDynamicLegends": true
},
{
"id": 13,
"name": "Campus Boundary",
"parentLayerId": -1,
"defaultVisibility": true,
"subLayerIds": null,
"minScale": 750000,
"maxScale": 0,
"type": "Feature Layer",
"geometryType": "esriGeometryPolygon",
"supportsDynamicLegends": true
}
],
"tables": [],
"spatialReference": {
"wkid": 102719,
"latestWkid": 2264,
"xyTolerance": 3.2000000029696E-5,
"zTolerance": 2,
"mTolerance": 0.001,
"falseX": -121841900,
"falseY": -93659000,
"xyUnits": 3.6365718124241434E7,
"falseZ": 0,
"zUnits": 1,
"falseM": -100000,
"mUnits": 10000
},
"singleFusedMapCache": true,
"tileInfo": {
"rows": 256,
"cols": 256,
"dpi": 96,
"format": "JPEG",
"compressionQuality": 75,
"origin": {
"x": -121841900,
"y": 154024800
},
"spatialReference": {
"wkid": 102719,
"latestWkid": 2264,
"xyTolerance": 3.2000000029696E-5,
"zTolerance": 2,
"mTolerance": 0.001,
"falseX": -121841900,
"falseY": -93659000,
"xyUnits": 3.6365718124241434E7,
"falseZ": 0,
"zUnits": 1,
"falseM": -100000,
"mUnits": 10000
},
"lods": [
{
"level": 0,
"resolution": 260.41666666666663,
"scale": 300000
},
{
"level": 1,
"resolution": 104.16666666666666,
"scale": 120000
},
{
"level": 2,
"resolution": 83.33333333333333,
"scale": 96000
},
{
"level": 3,
"resolution": 41.666666666666664,
"scale": 48000
},
{
"level": 4,
"resolution": 20.833333333333332,
"scale": 24000
},
{
"level": 5,
"resolution": 10.416666666666666,
"scale": 12000
},
{
"level": 6,
"resolution": 4.166666666666666,
"scale": 4800
},
{
"level": 7,
"resolution": 2.083333333333333,
"scale": 2400
},
{
"level": 8,
"resolution": 1.0416666666666665,
"scale": 1200
},
{
"level": 9,
"resolution": 0.5208333333333333,
"scale": 600
},
{
"level": 10,
"resolution": 0.26041666666666663,
"scale": 300
}
]
},
"storageInfo": {
"storageFormat": "esriMapCacheStorageModeCompactV2",
"packetSize": 128
},
"initialExtent": {
"xmin": 1982724.6459268115,
"ymin": 783120.6703485982,
"xmax": 1988560.6646620648,
"ymax": 787670.5928885215,
"spatialReference": {
"wkid": 102719,
"latestWkid": 2264,
"xyTolerance": 3.2000000029696E-5,
"zTolerance": 2,
"mTolerance": 0.001,
"falseX": -121841900,
"falseY": -93659000,
"xyUnits": 3.6365718124241434E7,
"falseZ": 0,
"zUnits": 1,
"falseM": -100000,
"mUnits": 10000
}
},
"fullExtent": {
"xmin": 1919988.7947286516,
"ymin": 718742.1410329491,
"xmax": 2010655.4662978947,
"ymax": 812500.0000609607,
"spatialReference": {
"wkid": 102719,
"latestWkid": 2264,
"xyTolerance": 3.2000000029696E-5,
"zTolerance": 2,
"mTolerance": 0.001,
"falseX": -121841900,
"falseY": -93659000,
"xyUnits": 3.6365718124241434E7,
"falseZ": 0,
"zUnits": 1,
"falseM": -100000,
"mUnits": 10000
}
},
"datesInUnknownTimezone": false,
"minScale": 300000,
"maxScale": 300,
"minLOD": 0,
"maxLOD": 10,
"units": "esriFeet",
"supportedImageFormatTypes": "PNG32,PNG24,PNG,JPG,DIB,TIFF,EMF,PS,PDF,GIF,SVG,SVGZ,BMP",
"documentInfo": {
"Title": "CacheBasemapBlue",
"Author": "",
"Comments": " A cached basemap of common UNC map features. <\/SPAN><\/P><\/DIV><\/DIV>",
"Subject": "A cached basemap of common UNC map features.",
"Category": "",
"Version": "2.9.0",
"AntialiasingMode": "None",
"TextAntialiasingMode": "Force",
"Keywords": "unc,basemap,cache,buildings"
},
"supportsQueryDomains": true,
"capabilities": "Map,Query,Data",
"supportedQueryFormats": "JSON, geoJSON, PBF",
"hasVersionedData": true,
"exportTilesAllowed": false,
"referenceScale": 0.0,
"supportsDatumTransformation": true,
"archivingInfo": {"supportsHistoricMoment": false},
"supportsClipping": true,
"supportsSpatialFilter": true,
"supportsTimeRelation": true,
"supportsQueryDataElements": true,
"mapUnits": {"uwkid": 9003},
"maxRecordCount": 1000,
"maxImageHeight": 4096,
"maxImageWidth": 4096,
"supportedExtensions": "",
"resampling": false,
"serviceItemId": "0fe0b1eb506d4999b6ce6a010373c31c"
}