View In:
ArcGIS JavaScript
ArcGIS Online map viewer
ArcGIS Earth
Service Description: Mosaics processed in Pix4D from images acquired with a DJI Mavic 2 Pro. No ground control points were used, so do not use these images to make precise measurements. For visualization and approximate measurement only.
Name: Imagery/UNC2020UASWGS84
Description: Mosaics processed in Pix4D from images acquired with a DJI Mavic 2 Pro. No ground control points were used, so do not use these images to make precise measurements. For visualization and approximate measurement only.
Single Fused Map Cache: false
Extent:
XMin: 675690.01113
YMin: 3974547.557640001
XMax: 676691.104069999
YMax: 3975861.51104
Spatial Reference: 32617
(32617)
Initial Extent:
XMin: 675690.01113
YMin: 3974547.557640001
XMax: 676691.104069999
YMax: 3975861.51104
Spatial Reference: 32617
(32617)
Full Extent:
XMin: 675690.01113
YMin: 3974547.557640001
XMax: 676691.104069999
YMax: 3975861.51104
Spatial Reference: 32617
(32617)
Pixel Size X: 0.008179999999991458
Pixel Size Y: 0.008179999999991293
Band Count: 4
Pixel Type: U8
RasterFunction Infos: {"rasterFunctionInfos": [{
"name": "None",
"description": "",
"help": ""
}]}
Mensuration Capabilities:
Inspection Capabilities:
Has Histograms: true
Has Colormap: false
Has Multi Dimensions : false
Rendering Rule:
Min Scale: 0
Max Scale: 0
Copyright Text: Carl Stearns, UNC Energy Services and Sustainability
Service Data Type: esriImageServiceDataTypeGeneric
Min Values: 0, 0, 0, 240
Max Values: 255, 255, 255, 255
Mean Values: 97.47627485725543, 106.80547351841022, 86.65626628678667, 251.2631944685734
Standard Deviation Values: 75.18251133581494, 74.46186164352972, 67.82501525776117, 6.447881566005386
Object ID Field: OBJECTID
Fields:
-
OBJECTID
(
type: esriFieldTypeOID, alias: OBJECTID
)
-
Shape
(
type: esriFieldTypeGeometry, alias: Shape
)
-
Name
(
type: esriFieldTypeString, alias: Name, length: 200
)
-
MinPS
(
type: esriFieldTypeDouble, alias: MinPS
)
-
MaxPS
(
type: esriFieldTypeDouble, alias: MaxPS
)
-
LowPS
(
type: esriFieldTypeDouble, alias: LowPS
)
-
HighPS
(
type: esriFieldTypeDouble, alias: HighPS
)
-
Category
(
type: esriFieldTypeInteger, alias: Category
, Coded Values:
[0: Unknown]
, [1: Primary]
, [2: Overview]
, ...6 more...
)
-
Tag
(
type: esriFieldTypeString, alias: Tag, length: 100
)
-
GroupName
(
type: esriFieldTypeString, alias: GroupName, length: 100
)
-
ProductName
(
type: esriFieldTypeString, alias: ProductName, length: 100
)
-
CenterX
(
type: esriFieldTypeDouble, alias: CenterX
)
-
CenterY
(
type: esriFieldTypeDouble, alias: CenterY
)
-
ZOrder
(
type: esriFieldTypeInteger, alias: ZOrder
)
-
Shape_Length
(
type: esriFieldTypeDouble, alias: Shape_Length
)
-
Shape_Area
(
type: esriFieldTypeDouble, alias: Shape_Area
)
Default Mosaic Method: Northwest
Allowed Mosaic Methods: NorthWest,Center,LockRaster,ByAttribute,Nadir,Viewpoint,Seamline,None
SortField:
SortValue: null
Mosaic Operator: First
Default Compression Quality: 75
Default Resampling Method: Bilinear
Max Record Count: 1000
Max Image Height: 4100
Max Image Width: 15000
Max Download Image Count: 20
Max Mosaic Image Count: 20
Allow Raster Function: true
Allow Copy: true
Allow Analysis: true
Allow Compute TiePoints: false
Supports Statistics: true
Supports Advanced Queries: true
Use StandardizedQueries: true
Raster Type Infos:
Name: Raster Dataset
Description: Supports all ArcGIS Raster Datasets
Help:
Has Raster Attribute Table: false
Edit Fields Info: null
Ownership Based AccessControl For Rasters: null
Child Resources:
Info
Histograms
Statistics
Key Properties
Legend
Raster Function Infos
Supported Operations:
Export Image
Query
Identify
Compute Histograms
Compute Statistics Histograms
Get Samples
Compute Class Statistics
Query GPS Info
Find Images
Image to Map
Map to Image
Measure from Image
Image to Map Multiray
Query Boundary
Compute Pixel Location
Compute Angles
Validate
Project